BEGIN:VCALENDAR
VERSION:2.0
PRODID:-//QiGong4InnerEcology - ECPv6.15.17.1//NONSGML v1.0//EN
CALSCALE:GREGORIAN
METHOD:PUBLISH
X-WR-CALNAME:QiGong4InnerEcology
X-ORIGINAL-URL:https://qigong4innerecology.com
X-WR-CALDESC:Events for QiGong4InnerEcology
REFRESH-INTERVAL;VALUE=DURATION:PT1H
X-Robots-Tag:noindex
X-PUBLISHED-TTL:PT1H
BEGIN:VTIMEZONE
TZID:America/Los_Angeles
BEGIN:DAYLIGHT
TZOFFSETFROM:-0800
TZOFFSETTO:-0700
TZNAME:PDT
DTSTART:20240310T100000
END:DAYLIGHT
BEGIN:STANDARD
TZOFFSETFROM:-0700
TZOFFSETTO:-0800
TZNAME:PST
DTSTART:20241103T090000
END:STANDARD
BEGIN:DAYLIGHT
TZOFFSETFROM:-0800
TZOFFSETTO:-0700
TZNAME:PDT
DTSTART:20250309T100000
END:DAYLIGHT
BEGIN:STANDARD
TZOFFSETFROM:-0700
TZOFFSETTO:-0800
TZNAME:PST
DTSTART:20251102T090000
END:STANDARD
BEGIN:DAYLIGHT
TZOFFSETFROM:-0800
TZOFFSETTO:-0700
TZNAME:PDT
DTSTART:20260308T100000
END:DAYLIGHT
BEGIN:STANDARD
TZOFFSETFROM:-0700
TZOFFSETTO:-0800
TZNAME:PST
DTSTART:20261101T090000
END:STANDARD
END:VTIMEZONE
BEGIN:VEVENT
DTSTART;TZID=America/Los_Angeles:20250213T090000
DTEND;TZID=America/Los_Angeles:20250213T100000
DTSTAMP:20260423T025912
CREATED:20250112T001954Z
LAST-MODIFIED:20250213T052418Z
UID:3080-1739437200-1739440800@qigong4innerecology.com
SUMMARY:Qi Gong for Seniors - Canceled due to rain
DESCRIPTION:This class is canceled due to the rain. We will reconvene next week.
URL:https://qigong4innerecology.com/event/seniors2025-02-13
LOCATION:Buddy Todd Park\, 2800 Mesa Drive\, Oceanside\, CA\, 92054\, United States
CATEGORIES:Group Class,Qi Gong Class
ATTACH;FMTTYPE=image/jpeg:https://qigong4innerecology.com/wp-content/uploads/2023/12/Class-canceled-for-website-event-calendar-scaled.jpg
ORGANIZER;CN="Amelie Catheline":MAILTO:QG4IE.info@gmail.com
END:VEVENT
END:VCALENDAR